BEGIN:VCALENDAR
VERSION:2.0
PRODID:-//KOZT The Coast FM - ECPv6.15.20//NONSGML v1.0//EN
CALSCALE:GREGORIAN
METHOD:PUBLISH
X-WR-CALNAME:KOZT The Coast FM
X-ORIGINAL-URL:https://kozt.com
X-WR-CALDESC:Events for KOZT The Coast FM
REFRESH-INTERVAL;VALUE=DURATION:PT1H
X-Robots-Tag:noindex
X-PUBLISHED-TTL:PT1H
BEGIN:VTIMEZONE
TZID:America/Los_Angeles
BEGIN:DAYLIGHT
TZOFFSETFROM:-0800
TZOFFSETTO:-0700
TZNAME:PDT
DTSTART:20250309T100000
END:DAYLIGHT
BEGIN:STANDARD
TZOFFSETFROM:-0700
TZOFFSETTO:-0800
TZNAME:PST
DTSTART:20251102T090000
END:STANDARD
BEGIN:DAYLIGHT
TZOFFSETFROM:-0800
TZOFFSETTO:-0700
TZNAME:PDT
DTSTART:20260308T100000
END:DAYLIGHT
BEGIN:STANDARD
TZOFFSETFROM:-0700
TZOFFSETTO:-0800
TZNAME:PST
DTSTART:20261101T090000
END:STANDARD
BEGIN:DAYLIGHT
TZOFFSETFROM:-0800
TZOFFSETTO:-0700
TZNAME:PDT
DTSTART:20270314T100000
END:DAYLIGHT
BEGIN:STANDARD
TZOFFSETFROM:-0700
TZOFFSETTO:-0800
TZNAME:PST
DTSTART:20271107T090000
END:STANDARD
END:VTIMEZONE
BEGIN:VEVENT
DTSTART;TZID=America/Los_Angeles:20260422T143000
DTEND;TZID=America/Los_Angeles:20260422T163000
DTSTAMP:20260422T031957
CREATED:20260212T184520Z
LAST-MODIFIED:20260212T184520Z
UID:10001308-1776868200-1776875400@kozt.com
SUMMARY:Fort Bragg Farmers Market
DESCRIPTION:Fort Bragg Farmer’s Market every Wednesday rain or shine in front of City Hall on North Franklin.  They accept WIC coupons and EBT/Food Stamps.
URL:https://kozt.com/event/fort-bragg-farmers-market-15/
LOCATION:Fort Bragg Farmers Market\, Franklin St (between Laurel & Pine)\, Fort Bragg\, CA\, 95437\, United States
CATEGORIES:Food / Beer / Wine
GEO:39.4513714;-123.6846987
X-APPLE-STRUCTURED-LOCATION;VALUE=URI;X-ADDRESS=Fort Bragg Farmers Market Franklin St (between Laurel & Pine) Fort Bragg CA 95437 United States;X-APPLE-RADIUS=500;X-TITLE=Franklin St (between Laurel & Pine):geo:-123.6846987,39.4513714
END:VEVENT
BEGIN:VEVENT
DTSTART;TZID=America/Los_Angeles:20260422T150000
DTEND;TZID=America/Los_Angeles:20260422T180000
DTSTAMP:20260422T031957
CREATED:20260331T171352Z
LAST-MODIFIED:20260331T171352Z
UID:10006117-1776870000-1776880800@kozt.com
SUMMARY:Earl Oliver @ Tall Guy
DESCRIPTION:
URL:https://kozt.com/event/earl-oliver-tall-guy/
LOCATION:Tall Guy Brewing\, 362 N. Franklin St.\, Fort Bragg\, CA\, 95437\, United States
CATEGORIES:Entertainment
END:VEVENT
BEGIN:VEVENT
DTSTART;TZID=America/Los_Angeles:20260422T180000
DTEND;TZID=America/Los_Angeles:20260422T200000
DTSTAMP:20260422T031957
CREATED:20260212T184520Z
LAST-MODIFIED:20260212T184520Z
UID:10001309-1776880800-1776888000@kozt.com
SUMMARY:Lincoln Andrews @  Heritage House
DESCRIPTION:
URL:https://kozt.com/event/lincoln-andrews-heritage-house-15/
LOCATION:Heritage House\, 5200 North Highway 1\, Little River\, CA\, 95456\, United States
CATEGORIES:Entertainment
GEO:39.242111;-123.7751734
X-APPLE-STRUCTURED-LOCATION;VALUE=URI;X-ADDRESS=Heritage House 5200 North Highway 1 Little River CA 95456 United States;X-APPLE-RADIUS=500;X-TITLE=5200 North Highway 1:geo:-123.7751734,39.242111
END:VEVENT
BEGIN:VEVENT
DTSTART;TZID=America/Los_Angeles:20260422T180000
DTEND;TZID=America/Los_Angeles:20260422T200000
DTSTAMP:20260422T031957
CREATED:20260323T183613Z
LAST-MODIFIED:20260323T183613Z
UID:10005037-1776880800-1776888000@kozt.com
SUMMARY:Noyo Chapter Rhododendron Society
DESCRIPTION:The April of the Noyo Chapter of the Rhododendron Society meeting is all about preparing for the John Druecker Memorial Rhododendron Show this May.  Selecting trusses\, consideration and standards for entries etc. As always they will have the plant raffle as well as food and fellowship.
URL:https://kozt.com/event/noyo-chapter-rhododendron-society/
LOCATION:First Presbyterian Church Fort Bragg\, 367 Sanderson Way\, Fort Bragg\, CA\, 95437\, United States
CATEGORIES:Community
GEO:39.437649;-123.791592
X-APPLE-STRUCTURED-LOCATION;VALUE=URI;X-ADDRESS=First Presbyterian Church Fort Bragg 367 Sanderson Way Fort Bragg CA 95437 United States;X-APPLE-RADIUS=500;X-TITLE=367 Sanderson Way:geo:-123.791592,39.437649
END:VEVENT
END:VCALENDAR